BEGIN:VCALENDAR
VERSION:2.0
PRODID:-//University of Liverpool Computer Science Seminar System//v2//EN
BEGIN:VEVENT
DTSTAMP:20260419T161741Z
UID:Seminar-MIF-1466@lxserverM.csc.liv.ac.uk
ORGANIZER:CN=Othon Michail:MAILTO:Othon.Michail@liverpool.ac.uk
DTSTART:20251010T150000
DTEND:20251010T160000
SUMMARY:MIF Series
DESCRIPTION:Vitaliy Kurlin: Invariants of molecules, including proteins.\n\nhttps://www.csc.liv.ac.uk/research/seminars/abstract.php?id=1466
LOCATION:
END:VEVENT
END:VCALENDAR
