BEGIN:VCALENDAR
VERSION:2.0
PRODID:-//University of Liverpool Computer Science Seminar System//v2//EN
BEGIN:VEVENT
DTSTAMP:20260419T162105Z
UID:Seminar-wit-1077@lxserverM.csc.liv.ac.uk
ORGANIZER:CN=Othon Michail:MAILTO:Othon.Michail@liverpool.ac.uk
DTSTART:20230306T140000
DTEND:20230306T150000
SUMMARY:Women in Technology Series
DESCRIPTION:Dr Kirsty McKay: A Universe full of Plasma...What on Earth do we do with them?\n\nhttps://www.csc.liv.ac.uk/research/seminars/abstract.php?id=1077
LOCATION:Online Webinar
END:VEVENT
END:VCALENDAR
